BEGIN:VCALENDAR
VERSION:2.0
PRODID:-//Chambre de Commerce et d&#039;industrie du Grand Roussillon - ECPv6.15.18//NONSGML v1.0//EN
CALSCALE:GREGORIAN
METHOD:PUBLISH
X-WR-CALNAME:Chambre de Commerce et d&#039;industrie du Grand Roussillon
X-ORIGINAL-URL:https://ccigr.ca
X-WR-CALDESC:évènements pour Chambre de Commerce et d&#039;industrie du Grand Roussillon
REFRESH-INTERVAL;VALUE=DURATION:PT1H
X-Robots-Tag:noindex
X-PUBLISHED-TTL:PT1H
BEGIN:VTIMEZONE
TZID:America/Toronto
BEGIN:DAYLIGHT
TZOFFSETFROM:-0500
TZOFFSETTO:-0400
TZNAME:EDT
DTSTART:20230312T070000
END:DAYLIGHT
BEGIN:STANDARD
TZOFFSETFROM:-0400
TZOFFSETTO:-0500
TZNAME:EST
DTSTART:20231105T060000
END:STANDARD
BEGIN:DAYLIGHT
TZOFFSETFROM:-0500
TZOFFSETTO:-0400
TZNAME:EDT
DTSTART:20240310T070000
END:DAYLIGHT
BEGIN:STANDARD
TZOFFSETFROM:-0400
TZOFFSETTO:-0500
TZNAME:EST
DTSTART:20241103T060000
END:STANDARD
BEGIN:DAYLIGHT
TZOFFSETFROM:-0500
TZOFFSETTO:-0400
TZNAME:EDT
DTSTART:20250309T070000
END:DAYLIGHT
BEGIN:STANDARD
TZOFFSETFROM:-0400
TZOFFSETTO:-0500
TZNAME:EST
DTSTART:20251102T060000
END:STANDARD
END:VTIMEZONE
BEGIN:VEVENT
DTSTART;TZID=America/Toronto:20240509T170000
DTEND;TZID=America/Toronto:20240509T190000
DTSTAMP:20260421T151831
CREATED:20240223T215636Z
LAST-MODIFIED:20240801T181420Z
UID:14380-1715274000-1715281200@ccigr.ca
SUMMARY:Cocktail de la présidente
DESCRIPTION:Cocktail de la présidente\n				\n				\n					\n		\n					\n		\n				\n						\n					\n			\n						\n				\n									Vous êtes cordialement invités à plonger dans l’ambiance du printemps lors du Cocktail de la Présidente\, de la Chambre de Commerce et d’Industrie du Grand Roussillon (CCIGR). \nJoignez-vous à nous pour rencontrer Julie Voyer\, la présidente du conseil d’administration\, et échanger avec elle sur les projets stimulants qui façonneront l’avenir économique de notre région. Profitez de cette opportunité unique pour tisser des liens précieux\, élargir votre réseau professionnel et rester informé des développements au sein de la CCIGR. \nNe manquez pas cette occasion de célébrer le dynamisme et la solidarité de notre communauté d’affaires lors d’une soirée où les rencontres inspirantes et les conversations animées abondent. Votre entrée comprend une consommation et des bouchées seront servies. \n \nC’est un rendez-vous à ne pas manquer! 								\n				\n					\n		\n					\n		\n				\n						\n					\n			\n						\n						\n					\n			\n						\n				\n									Quand : \n9 mai 2024 17h à 19h 								\n				\n					\n		\n				\n			\n						\n				\n									Prix du billet Membre: 45$ Non-membre: 60$ 								\n				\n					\n		\n					\n		\n				\n				\n									Où : M Resto-Bar 3625\, rue Talon\, Sainte-Catherine\, QC J5C 1T7
URL:https://ccigr.ca/evenement-de-la-chambre/cocktail-de-la-presidente-2024/
LOCATION:M Resto-Bar\, 3625 Rue Talon\, Sainte-Catherine\, Québec\, J5C 1T7
ATTACH;FMTTYPE=image/png:https://ccigr.ca/wp-content/uploads/2024/02/Cocktail-Presidente.WEB-760x300-1.png
ORGANIZER;CN="CCIGR":MAILTO:info@ccigr.ca
END:VEVENT
END:VCALENDAR