BEGIN:VCALENDAR
VERSION:2.0
PRODID:-//Chambre de Commerce et d&#039;industrie du Grand Roussillon - ECPv6.15.18//NONSGML v1.0//EN
CALSCALE:GREGORIAN
METHOD:PUBLISH
X-WR-CALNAME:Chambre de Commerce et d&#039;industrie du Grand Roussillon
X-ORIGINAL-URL:https://ccigr.ca
X-WR-CALDESC:évènements pour Chambre de Commerce et d&#039;industrie du Grand Roussillon
REFRESH-INTERVAL;VALUE=DURATION:PT1H
X-Robots-Tag:noindex
X-PUBLISHED-TTL:PT1H
BEGIN:VTIMEZONE
TZID:America/Toronto
BEGIN:DAYLIGHT
TZOFFSETFROM:-0500
TZOFFSETTO:-0400
TZNAME:EDT
DTSTART:20240310T070000
END:DAYLIGHT
BEGIN:STANDARD
TZOFFSETFROM:-0400
TZOFFSETTO:-0500
TZNAME:EST
DTSTART:20241103T060000
END:STANDARD
BEGIN:DAYLIGHT
TZOFFSETFROM:-0500
TZOFFSETTO:-0400
TZNAME:EDT
DTSTART:20250309T070000
END:DAYLIGHT
BEGIN:STANDARD
TZOFFSETFROM:-0400
TZOFFSETTO:-0500
TZNAME:EST
DTSTART:20251102T060000
END:STANDARD
BEGIN:DAYLIGHT
TZOFFSETFROM:-0500
TZOFFSETTO:-0400
TZNAME:EDT
DTSTART:20260308T070000
END:DAYLIGHT
BEGIN:STANDARD
TZOFFSETFROM:-0400
TZOFFSETTO:-0500
TZNAME:EST
DTSTART:20261101T060000
END:STANDARD
END:VTIMEZONE
BEGIN:VEVENT
DTSTART;TZID=America/Toronto:20250129T170000
DTEND;TZID=America/Toronto:20250129T190000
DTSTAMP:20260421T151705
CREATED:20241218T143321Z
LAST-MODIFIED:20250131T161806Z
UID:17027-1738170000-1738177200@ccigr.ca
SUMMARY:Cocktail de la programmation 2025
DESCRIPTION:Dévoilement de la programmation				\n				\n				\n				\n							\n			\n		\n						\n				\n					\n		\n					\n		\n				\n						\n					\n			\n						\n				\n									Bienvenue à ce premier événement de l’année 2025\, organisé avec enthousiasme! Nous avons le plaisir de vous inviter à un cocktail exclusif qui marquera le début d’une année riche en opportunités et en partenariats. 								\n				\n				\n				\n							\n			\n						\n		\n						\n				\n				\n				\n									🌟 Cocktail du dévoilement de la programmation 📅 Date et heure :  29 janvier 2025\, 17h à 19h  📍Lieu : Domaine Labranche 565\, rang Saint-SimonSaint-Isidore-de-Laprairie\, J0L 2A0 								\n				\n				\n				\n							\n			\n						\n		\n						\n				\n				\n				\n									Ce que vous réserve cette soirée : ✨ Créez des liens durables : Profitez de cette occasion pour élargir votre réseau professionnel en rencontrant des entrepreneurs et des professionnels partageant les mêmes aspirations\, le tout dans le cadre enchanteur du Domaine Labranche ✨ Dévoilement de la programmation : Découvrez en avant-première les projets et activités prévus pour 2025. Soyez informé et prêt à saisir les opportunités qui se présentent. ✨ Expérience Domaine Labranche : Savourez les boissons alcoolisées uniques élaborées sur place\, issues des terres fertiles de Saint-Isidore\, et découvrez l’histoire et le savoir-faire de la famille Desgroseilliers Rejoignez-nous pour une soirée mémorable de réseautage\, de découvertes et de célébration du potentiel entrepreneurial de la région\, dans l’ambiance chaleureuse et authentique du Domaine Labranche. Ensemble\, partons du bon pied en cette nouvelle année ! Ensemble\, partons du bon pied en cette nouvelle année ! 🎟️ Inscription obligatoire Nous sommes impatients de partager ce moment privilégié avec vous. À bientôt !
URL:https://ccigr.ca/evenement-de-la-chambre/cocktail-de-la-programmation-2025/
LOCATION:Domaine Labranche\, 565\, rang Saint-Simon\, Saint-Isidore-de-Laprairie\, Québec\, J0L 2A0
CATEGORIES:Événement passé
ATTACH;FMTTYPE=image/png:https://ccigr.ca/wp-content/uploads/2024/12/Cocktails-de-la-programmation-2025.-WEB-763-x-300-.png
ORGANIZER;CN="CCIGR":MAILTO:info@ccigr.ca
END:VEVENT
END:VCALENDAR