BEGIN:VCALENDAR
VERSION:2.0
PRODID:-//Chambre de Commerce et d&#039;industrie du Grand Roussillon - ECPv6.15.18//NONSGML v1.0//EN
CALSCALE:GREGORIAN
METHOD:PUBLISH
X-WR-CALNAME:Chambre de Commerce et d&#039;industrie du Grand Roussillon
X-ORIGINAL-URL:https://ccigr.ca
X-WR-CALDESC:évènements pour Chambre de Commerce et d&#039;industrie du Grand Roussillon
REFRESH-INTERVAL;VALUE=DURATION:PT1H
X-Robots-Tag:noindex
X-PUBLISHED-TTL:PT1H
BEGIN:VTIMEZONE
TZID:America/Toronto
BEGIN:DAYLIGHT
TZOFFSETFROM:-0500
TZOFFSETTO:-0400
TZNAME:EDT
DTSTART:20250309T070000
END:DAYLIGHT
BEGIN:STANDARD
TZOFFSETFROM:-0400
TZOFFSETTO:-0500
TZNAME:EST
DTSTART:20251102T060000
END:STANDARD
BEGIN:DAYLIGHT
TZOFFSETFROM:-0500
TZOFFSETTO:-0400
TZNAME:EDT
DTSTART:20260308T070000
END:DAYLIGHT
BEGIN:STANDARD
TZOFFSETFROM:-0400
TZOFFSETTO:-0500
TZNAME:EST
DTSTART:20261101T060000
END:STANDARD
BEGIN:DAYLIGHT
TZOFFSETFROM:-0500
TZOFFSETTO:-0400
TZNAME:EDT
DTSTART:20270314T070000
END:DAYLIGHT
BEGIN:STANDARD
TZOFFSETFROM:-0400
TZOFFSETTO:-0500
TZNAME:EST
DTSTART:20271107T060000
END:STANDARD
END:VTIMEZONE
BEGIN:VEVENT
DTSTART;TZID=America/Toronto:20260317T080000
DTEND;TZID=America/Toronto:20260317T093000
DTSTAMP:20260419T010652
CREATED:20260227T130020Z
LAST-MODIFIED:20260318T141420Z
UID:21549-1773734400-1773739800@ccigr.ca
SUMMARY:Déjeuner-conférence | LLG RH
DESCRIPTION:🌟Déjeuner – conférence Loi 27 : et si la conformité devenait votre meilleur outil RH ?				\n				\n					\n		\n					\n		\n				\n						\n					\n			\n						\n				\n																														\n				\n				\n				\n									La CCIGR\, vous invite à un déjeuner-conférence sur la Loi 27 et sur la façon d’en faire un véritable levier de gestion en PME. La Loi 27 ne se limite pas à une politique à adopter. Elle exige des actions concrètes de la part des employeurs. Êtes-vous certain d’avoir mis en place ce qui est réellement requis? Savez-vous comment démontrer votre conformité? Lors de cette conférence\, nous clarifierons ce que la loi vous oblige à faire\, les éléments essentiels à mettre en place et les erreurs à éviter pour vous assurer d’être conforme. Nous verrons également comment l’implantation de ces mesures peut servir à mobiliser vos employés\, à renforcer la confiance au sein de votre équipe et à transformer une obligation légale en démarche positive pour votre organisation. Une conférence animée par Nathalie Beaudry et Marie Lavallée de chez LLG RH inc. Elles seront également disponibles à la fin de la présentation pour répondre à vos questions et échanger avec vous. Informations pratiques  Mardi 17 mars 2026  Conférence : 8:00 à 8:45 L’événement se termine à 9h30  Lieu: Manoir D’Youville\, Châteauguay\, salle Vieux Moulin Nous sommes impatients de vous accueillir en grand nombre !    								\n				\n					\n		\n					\n		\n				\n						\n					\n			\n						\n						\n					\n			\n						\n				\n									Quand : Mardi 17 MARS 2026 8h à 9h30 								\n				\n					\n		\n				\n			\n						\n				\n									Prix du billet Membres : 50 $ Non membres : 75 $ 								\n				\n					\n		\n					\n		\n				\n				\n									Où : Manoir D’Youville 498 boul. D’Youville\, Châteauguay\, QC J6J 5T9
URL:https://ccigr.ca/evenement-de-la-chambre/dejeuner-conference-llg-rh/
LOCATION:Manoir d’Youville\, 498\, boulevard D'Youville\, Châteauguay\, Québec\, J6J 5T9\, Canada
CATEGORIES:Événement passé
ATTACH;FMTTYPE=image/png:https://ccigr.ca/wp-content/uploads/2026/03/Dejeuner-conference-Web.763x300.png
ORGANIZER;CN="CCIGR":MAILTO:info@ccigr.ca
END:VEVENT
END:VCALENDAR