BEGIN:VCALENDAR
VERSION:2.0
PRODID:-//Chambre de Commerce et d&#039;industrie du Grand Roussillon - ECPv6.15.18//NONSGML v1.0//EN
CALSCALE:GREGORIAN
METHOD:PUBLISH
X-ORIGINAL-URL:https://ccigr.ca
X-WR-CALDESC:évènements pour Chambre de Commerce et d&#039;industrie du Grand Roussillon
REFRESH-INTERVAL;VALUE=DURATION:PT1H
X-Robots-Tag:noindex
X-PUBLISHED-TTL:PT1H
BEGIN:VTIMEZONE
TZID:America/Toronto
BEGIN:DAYLIGHT
TZOFFSETFROM:-0500
TZOFFSETTO:-0400
TZNAME:EDT
DTSTART:20250309T070000
END:DAYLIGHT
BEGIN:STANDARD
TZOFFSETFROM:-0400
TZOFFSETTO:-0500
TZNAME:EST
DTSTART:20251102T060000
END:STANDARD
BEGIN:DAYLIGHT
TZOFFSETFROM:-0500
TZOFFSETTO:-0400
TZNAME:EDT
DTSTART:20260308T070000
END:DAYLIGHT
BEGIN:STANDARD
TZOFFSETFROM:-0400
TZOFFSETTO:-0500
TZNAME:EST
DTSTART:20261101T060000
END:STANDARD
BEGIN:DAYLIGHT
TZOFFSETFROM:-0500
TZOFFSETTO:-0400
TZNAME:EDT
DTSTART:20270314T070000
END:DAYLIGHT
BEGIN:STANDARD
TZOFFSETFROM:-0400
TZOFFSETTO:-0500
TZNAME:EST
DTSTART:20271107T060000
END:STANDARD
END:VTIMEZONE
BEGIN:VEVENT
DTSTART;TZID=America/Toronto:20260422T170000
DTEND;TZID=America/Toronto:20260422T190000
DTSTAMP:20260421T152019
CREATED:20250325T163552Z
LAST-MODIFIED:20260325T144425Z
UID:10000221-1776877200-1776884400@ccigr.ca
SUMMARY:Cocktail de la présidente
DESCRIPTION:Dîner-Conférence | Christopher Skeete\, ministre délégué de l'Économie\n				\n				\n					\n		\n					\n		\n				\n						\n					\n			\n						\n				\n									La Chambre de commerce et d’industrie du Grand Roussillon vous invite à un événement incontournable : un dîner-conférence avec Christopher Skeete\, ministre délégué de l’Économie\, et ministre responsable de la Lutte contre le racisme qui se tiendra à la salle Saturne du Centre communautaire de Saint-Rémi. 📅 Date : 10 juin 2024 🕦 Horaire : De 11h30 à 13h30 Rejoignez-nous pour un dîner enrichissant rempli d’échanges\, de réflexions et de rencontres. Au programme : 🤝 Réseautage : Rencontrez des professionnels passionnés et tissez des liens précieux pour votre carrière. 🎙️ Conférence : Joignez-vous à nous pour entendre les perspectives de M. Christopher Skeete sur les perspectives économiques de notre région pour les entreprises. Profitez de cette opportunité exclusive pour poser vos questions et échanger vos idées. 💬 Rencontre : Échangez avec le ministre lors d’une session de questions-réponses interactive. C’est l’occasion parfaite pour discuter de vos préoccupations\, partager vos expériences et contribuer au dialogue sur des sujets importants. Ne ratez pas cette chance exceptionnelle de vous informer\, de vous inspirer et de vous connecter avec des leaders. Réservez dès maintenant votre place pour ce dîner-conférence exclusif ! 📝 Inscrivez-vous dès maintenant pour garantir votre participation. Les places sont limitées\, alors réservez vite ! C’est un rendez-vous à ne pas manquer! 								\n				\n					\n		\n					\n		\n				\n						\n					\n			\n						\n						\n					\n			\n						\n				\n									Quand : Lundi 10 juin 2024 11h30 à 13h30 								\n				\n					\n		\n				\n			\n						\n				\n									Prix du billet Membre | 70$ Non-membre | 85$ 								\n				\n					\n		\n					\n		\n				\n				\n									Où : Centre communautaire de Saint-Rémi Salle Saturne 25 rue Saint-Sauveur\, Saint-Rémi\, J0L 2L0
URL:https://ccigr.ca/evenement-de-la-chambre/cocktail-de-la-presidente/
LOCATION:Le Veston vert\, 265 rue Saint-Joseph\, Sainte-Martine\, QC\, J0S 1V0\, Canada
CATEGORIES:Prochain événement
ATTACH;FMTTYPE=image/png:https://ccigr.ca/wp-content/uploads/2025/03/Web1.png
ORGANIZER;CN="CCIGR":MAILTO:info@ccigr.ca
END:VEVENT
BEGIN:VEVENT
DTSTART;TZID=America/Toronto:20260427T080000
DTEND;TZID=America/Toronto:20260427T090000
DTSTAMP:20260421T152019
CREATED:20260331T133021Z
LAST-MODIFIED:20260331T135803Z
UID:10000246-1777276800-1777280400@ccigr.ca
SUMMARY:Déjeuner brise-glace
DESCRIPTION:Dîner-Conférence | Christopher Skeete\, ministre délégué de l'Économie\n				\n				\n					\n		\n					\n		\n				\n						\n					\n			\n						\n				\n									La Chambre de commerce et d’industrie du Grand Roussillon vous invite à un événement incontournable : un dîner-conférence avec Christopher Skeete\, ministre délégué de l’Économie\, et ministre responsable de la Lutte contre le racisme qui se tiendra à la salle Saturne du Centre communautaire de Saint-Rémi. 📅 Date : 10 juin 2024 🕦 Horaire : De 11h30 à 13h30 Rejoignez-nous pour un dîner enrichissant rempli d’échanges\, de réflexions et de rencontres. Au programme : 🤝 Réseautage : Rencontrez des professionnels passionnés et tissez des liens précieux pour votre carrière. 🎙️ Conférence : Joignez-vous à nous pour entendre les perspectives de M. Christopher Skeete sur les perspectives économiques de notre région pour les entreprises. Profitez de cette opportunité exclusive pour poser vos questions et échanger vos idées. 💬 Rencontre : Échangez avec le ministre lors d’une session de questions-réponses interactive. C’est l’occasion parfaite pour discuter de vos préoccupations\, partager vos expériences et contribuer au dialogue sur des sujets importants. Ne ratez pas cette chance exceptionnelle de vous informer\, de vous inspirer et de vous connecter avec des leaders. Réservez dès maintenant votre place pour ce dîner-conférence exclusif ! 📝 Inscrivez-vous dès maintenant pour garantir votre participation. Les places sont limitées\, alors réservez vite ! C’est un rendez-vous à ne pas manquer! 								\n				\n					\n		\n					\n		\n				\n						\n					\n			\n						\n						\n					\n			\n						\n				\n									Quand : Lundi 10 juin 2024 11h30 à 13h30 								\n				\n					\n		\n				\n			\n						\n				\n									Prix du billet Membre | 70$ Non-membre | 85$ 								\n				\n					\n		\n					\n		\n				\n				\n									Où : Centre communautaire de Saint-Rémi Salle Saturne 25 rue Saint-Sauveur\, Saint-Rémi\, J0L 2L0
URL:https://ccigr.ca/evenement-de-la-chambre/dejeuner-brise-glace/
LOCATION:L’oeufrier Saint-Constant\, 380 Québec 132\, Saint-Constant\, QC\, J5A 2L5\, Canada
CATEGORIES:Prochain événement
ATTACH;FMTTYPE=image/png:https://ccigr.ca/wp-content/uploads/2026/02/Dejeuner-brise-glace.png
ORGANIZER;CN="CCIGR":MAILTO:info@ccigr.ca
END:VEVENT
BEGIN:VEVENT
DTSTART;VALUE=DATE:20260529
DTEND;VALUE=DATE:20260530
DTSTAMP:20260421T152019
CREATED:20260325T170028Z
LAST-MODIFIED:20260402T141612Z
UID:10000217-1780012800-1780099199@ccigr.ca
SUMMARY:Tournoi de golf 2026
DESCRIPTION:Dîner-Conférence | Christopher Skeete\, ministre délégué de l'Économie\n				\n				\n					\n		\n					\n		\n				\n						\n					\n			\n						\n				\n									La Chambre de commerce et d’industrie du Grand Roussillon vous invite à un événement incontournable : un dîner-conférence avec Christopher Skeete\, ministre délégué de l’Économie\, et ministre responsable de la Lutte contre le racisme qui se tiendra à la salle Saturne du Centre communautaire de Saint-Rémi. 📅 Date : 10 juin 2024 🕦 Horaire : De 11h30 à 13h30 Rejoignez-nous pour un dîner enrichissant rempli d’échanges\, de réflexions et de rencontres. Au programme : 🤝 Réseautage : Rencontrez des professionnels passionnés et tissez des liens précieux pour votre carrière. 🎙️ Conférence : Joignez-vous à nous pour entendre les perspectives de M. Christopher Skeete sur les perspectives économiques de notre région pour les entreprises. Profitez de cette opportunité exclusive pour poser vos questions et échanger vos idées. 💬 Rencontre : Échangez avec le ministre lors d’une session de questions-réponses interactive. C’est l’occasion parfaite pour discuter de vos préoccupations\, partager vos expériences et contribuer au dialogue sur des sujets importants. Ne ratez pas cette chance exceptionnelle de vous informer\, de vous inspirer et de vous connecter avec des leaders. Réservez dès maintenant votre place pour ce dîner-conférence exclusif ! 📝 Inscrivez-vous dès maintenant pour garantir votre participation. Les places sont limitées\, alors réservez vite ! C’est un rendez-vous à ne pas manquer! 								\n				\n					\n		\n					\n		\n				\n						\n					\n			\n						\n						\n					\n			\n						\n				\n									Quand : Lundi 10 juin 2024 11h30 à 13h30 								\n				\n					\n		\n				\n			\n						\n				\n									Prix du billet Membre | 70$ Non-membre | 85$ 								\n				\n					\n		\n					\n		\n				\n				\n									Où : Centre communautaire de Saint-Rémi Salle Saturne 25 rue Saint-Sauveur\, Saint-Rémi\, J0L 2L0
URL:https://ccigr.ca/evenement-de-la-chambre/tournoi-de-golf-2026/
LOCATION:Club de golf Belle Vue\, 880\, boulevard de Léry\, Léry\, Québec\, J6N 1B7
CATEGORIES:Prochain événement
ATTACH;FMTTYPE=image/png:https://ccigr.ca/wp-content/uploads/2025/02/banniere-web-evenement.png
ORGANIZER;CN="CCIGR":MAILTO:info@ccigr.ca
END:VEVENT
END:VCALENDAR