BEGIN:VCALENDAR
VERSION:2.0
PRODID:-//Chambre de Commerce et d&#039;industrie du Grand Roussillon - ECPv6.15.18//NONSGML v1.0//EN
CALSCALE:GREGORIAN
METHOD:PUBLISH
X-WR-CALNAME:Chambre de Commerce et d&#039;industrie du Grand Roussillon
X-ORIGINAL-URL:https://ccigr.ca
X-WR-CALDESC:évènements pour Chambre de Commerce et d&#039;industrie du Grand Roussillon
REFRESH-INTERVAL;VALUE=DURATION:PT1H
X-Robots-Tag:noindex
X-PUBLISHED-TTL:PT1H
BEGIN:VTIMEZONE
TZID:America/Toronto
BEGIN:DAYLIGHT
TZOFFSETFROM:-0500
TZOFFSETTO:-0400
TZNAME:EDT
DTSTART:20230312T070000
END:DAYLIGHT
BEGIN:STANDARD
TZOFFSETFROM:-0400
TZOFFSETTO:-0500
TZNAME:EST
DTSTART:20231105T060000
END:STANDARD
BEGIN:DAYLIGHT
TZOFFSETFROM:-0500
TZOFFSETTO:-0400
TZNAME:EDT
DTSTART:20240310T070000
END:DAYLIGHT
BEGIN:STANDARD
TZOFFSETFROM:-0400
TZOFFSETTO:-0500
TZNAME:EST
DTSTART:20241103T060000
END:STANDARD
BEGIN:DAYLIGHT
TZOFFSETFROM:-0500
TZOFFSETTO:-0400
TZNAME:EDT
DTSTART:20250309T070000
END:DAYLIGHT
BEGIN:STANDARD
TZOFFSETFROM:-0400
TZOFFSETTO:-0500
TZNAME:EST
DTSTART:20251102T060000
END:STANDARD
END:VTIMEZONE
BEGIN:VEVENT
DTSTART;TZID=America/Toronto:20241018T113000
DTEND;TZID=America/Toronto:20241018T133000
DTSTAMP:20260421T152119
CREATED:20240917T142250Z
LAST-MODIFIED:20241108T153935Z
UID:15265-1729251000-1729258200@ccigr.ca
SUMMARY:Dîner-conférence | Suzanne Roy\, ministre de la Famille
DESCRIPTION:Dîner-Conférence | Suzanne Roy\, ministre de la Famille				\n				\n					\n				\n		\n					\n				\n				\n									La Chambre de commerce et d’industrie du Grand Roussillon vous invite à un événement incontournable : un dîner-conférence avec Suzanne Roy\, ministre de la Famille\, qui se tiendra au resto-bar La Chapelle à Mercier. 📅 Date : 18 octobre 🕦 Horaire : De 11h30 à 13h30 Rejoignez-nous pour un dîner enrichissant rempli d’échanges\, de réflexions et de rencontres. Au programme : 🤝 Réseautage : Rencontrez des professionnels passionnés et tissez des liens précieux pour votre carrière. 🎙️ Conférence : Écoutez les perspectives de Madame Suzanne Roy concernant un projet-pilote visant à augmenter le nombre de places offertes en entreprise en matière de service de garde. Profitez de cette occasion unique pour poser vos questions et partager vos idées. 💬 Rencontre : Échangez avec la ministre de la Famille elle-même lors d’une session de questions-réponses interactive. C’est l’occasion parfaite pour discuter de vos préoccupations\, partager vos expériences et contribuer au dialogue sur des sujets importants. Ne ratez pas cette chance exceptionnelle de vous informer\, de vous inspirer et de vous connecter avec des leaders. Réservez dès maintenant votre place pour ce dîner-conférence exclusif! 📝 Inscrivez-vous dès maintenant pour garantir votre participation. Les places sont limitées\, alors réservez vite! C’est un rendez-vous à ne pas manquer! 								\n				\n					\n				\n		\n					\n		\n				\n				\n									Quand : 18 octobre 11h30 à 13h30 								\n				\n				\n		\n				\n				\n									Prix du billet : Membre | 70 $ Non-membre | 85$ 								\n				\n				\n					\n				\n		\n					\n				\n				\n									Où : Resto-bar La Chapelle 721 boul. Saint-Jean-Baptiste Mercier\, J6R 1G3
URL:https://ccigr.ca/evenement-de-la-chambre/diner-conference-suzanne-roy-ministre-de-la-famille-2024/
LOCATION:Resto-bar La Chapelle\, 721 boul. Saint-Jean-Baptiste J6R 1G3\, Mercier\, Québec\, J6R 1G3\, Canada
CATEGORIES:Événement passé
ATTACH;FMTTYPE=image/png:https://ccigr.ca/wp-content/uploads/2024/09/Diner-conference-Ministre-Roy-Web.763x300.png
ORGANIZER;CN="CCIGR":MAILTO:info@ccigr.ca
END:VEVENT
END:VCALENDAR